BEGIN:VCALENDAR
VERSION:2.0
PRODID:-//ChamberMaster//Event Calendar 2.0//EN
METHOD:PUBLISH
X-PUBLISHED-TTL:P3D
REFRESH-INTERVAL:P3D
CALSCALE:GREGORIAN
BEGIN:VEVENT
DTSTART:20260206T170000Z
DTEND:20260227T220000Z
X-MICROSOFT-CDO-ALLDAYEVENT:FALSE
SUMMARY:Black History Month -Descendants Heritage Exhibit
DESCRIPTION:Black History Month - Descendants Heritage Exhibit Premiere Featuring Black Families\, School's\, Churches\, Women's Phychicans and Black Wall Street from The The City Of Jacksonville\, Texas.
X-ALT-DESC;FMTTYPE=text/html:Black History Month - Descendants Heritage Exhibit Premiere Featuring Black Families\, School&#39\;s\, Churches\, Women&#39\;s Phychicans and Black Wall Street from The The City Of Jacksonville\, Texas.
LOCATION:Texana Vanishing Museum 302 South Bolton
UID:e.1648.16287
SEQUENCE:3
DTSTAMP:20260421T090023Z
URL:http://tylerarea.sampleorg.com/events/details/black-history-month-descendants-heritage-exhibit-16287
END:VEVENT

END:VCALENDAR
