BEGIN:VCALENDAR
VERSION:2.0
PRODID:-//ChamberMaster//Event Calendar 2.0//EN
METHOD:PUBLISH
X-PUBLISHED-TTL:P3D
REFRESH-INTERVAL:P3D
CALSCALE:GREGORIAN
BEGIN:VEVENT
DTSTART;VALUE=DATE:20240720
DTEND;VALUE=DATE:20240722
TRANSP:TRANSPARENT
X-MICROSOFT-CDO-ALLDAYEVENT:TRUE
SUMMARY:BEC/DHJSC Hunter Jumper Show
DESCRIPTION:All age horse & rider combinations compete in classes where rider and horse are judged on their technique\, presentation\, speed and the ability to successfully clear jumps. The event is open to the public to spectate.
X-ALT-DESC;FMTTYPE=text/html:All age horse &amp\; rider combinations compete in classes where rider and horse are judged on their technique\, presentation\, speed and the ability to successfully clear jumps. The event is open to the public to spectate.
LOCATION:Texas Rose Horse Park 14078 State Hwy 110N\, Tyler TX
UID:e.1648.15729
SEQUENCE:3
DTSTAMP:20260420T132556Z
URL:http://tylerarea.sampleorg.com/events/details/bec-dhjsc-hunter-jumper-show-15729
END:VEVENT

END:VCALENDAR
