BEGIN:VCALENDAR
VERSION:2.0
PRODID:-//ChamberMaster//Event Calendar 2.0//EN
METHOD:PUBLISH
X-PUBLISHED-TTL:P3D
REFRESH-INTERVAL:P3D
CALSCALE:GREGORIAN
BEGIN:VEVENT
DTSTART:20250214T013000Z
DTEND:20250214T033000Z
X-MICROSOFT-CDO-ALLDAYEVENT:FALSE
SUMMARY:Beatles to Bourbon Street featuring The Fabulous Equinox Orchestra
DESCRIPTION:Beatles to Bourbon Street featuring The Fabulous Equinox Orchestra Thursday\, February 13\, 2025   7:30 PM How do you make Beatles music even more fun? Take it to Mardi Gras in New Orleans and orchestrate it all for a big band! Meet your next two best friends  Jeremy Davis and Clay Johnson\, along with their Fabulous Equinox Orchestra! Inspired both by Rat Pack sophistication and Highwaymen swagger\, Davis and Johnson are making their own revisions to America's songbook\, including all your favorite melodies from more recent history. Hits from Motown\, Country\, Folk and Gospel\, and the stories behind them\, all find their place in this unforgettable stage show. A Flavorfully Soulful Southern Big Band Blast of Beatles Hits!
X-ALT-DESC;FMTTYPE=text/html:Beatles to Bourbon Street featuring The Fabulous Equinox Orchestra Thursday\, February 13\, 2025 &bull\; 7:30 PM How do you make Beatles music even more fun? Take it to Mardi Gras in New Orleans and orchestrate it all for a big band! Meet your next two best friends &ndash\;Jeremy Davis and Clay Johnson\, along with their Fabulous Equinox Orchestra! Inspired both by Rat Pack sophistication and Highwaymen swagger\, Davis and Johnson are making their own revisions to America&rsquo\;s songbook\, including all your favorite melodies from more recent history. Hits from Motown\, Country\, Folk and Gospel\, and the stories behind them\, all find their place in this unforgettable stage show. A Flavorfully Soulful Southern Big Band Blast of Beatles Hits!
LOCATION:UT Tyler Cowan Center
UID:e.1648.15762
SEQUENCE:3
DTSTAMP:20260420T025254Z
URL:http://tylerarea.sampleorg.com/events/details/beatles-to-bourbon-street-featuring-the-fabulous-equinox-orchestra-15762
END:VEVENT

END:VCALENDAR
