BEGIN:VCALENDAR
VERSION:2.0
PRODID:-//ChamberMaster//Event Calendar 2.0//EN
METHOD:PUBLISH
X-PUBLISHED-TTL:P3D
REFRESH-INTERVAL:P3D
CALSCALE:GREGORIAN
BEGIN:VEVENT
DTSTART;VALUE=DATE:20250412
DTEND;VALUE=DATE:20250413
TRANSP:TRANSPARENT
X-MICROSOFT-CDO-ALLDAYEVENT:TRUE
SUMMARY:Battle of the Badges
DESCRIPTION:Battle of the Badges baseball game will take place between the Tyler Police Department and the Tyler Fire Department. This year\, the event will be held on Saturday\, April 12th at Faulkner Park on Field #1. Proceeds will benefit the Children's Advocacy Center of Smith County.
X-ALT-DESC;FMTTYPE=text/html:Battle of the Badges baseball game will take place between the Tyler Police Department and the Tyler Fire Department. This year\, the event will be held on Saturday\, April 12th at Faulkner Park on Field #1. Proceeds will benefit the Children&#39\;s Advocacy Center of Smith County.
LOCATION:Faulkner Park 410 West Cumberland Road Tyler\, Texas 75703
UID:e.1648.15850
SEQUENCE:3
DTSTAMP:20260419T235252Z
URL:http://tylerarea.sampleorg.com/events/details/battle-of-the-badges-15850
END:VEVENT

END:VCALENDAR
