BEGIN:VCALENDAR
VERSION:2.0
PRODID:-//ChamberMaster//Event Calendar 2.0//EN
METHOD:PUBLISH
X-PUBLISHED-TTL:P3D
REFRESH-INTERVAL:P3D
CALSCALE:GREGORIAN
BEGIN:VEVENT
DTSTART:20250802T150000Z
DTEND:20250802T220000Z
X-MICROSOFT-CDO-ALLDAYEVENT:FALSE
SUMMARY:Back-to-School Community Connect & Project Launch for Kindled Pathways
DESCRIPTION:This event will provide local families and youth with access to essential resources\, community services\, and opportunities for connection in a safe\, welcoming environment. Activities will include informational booths\, food\, music\, and family-friendly programming designed to inspire resilience\, strengthen community bonds\, and introduce Kindled Pathways as a new organization dedicated to serving the community.
X-ALT-DESC;FMTTYPE=text/html:This event will provide local families and youth with access to essential resources\, community services\, and opportunities for connection in a safe\, welcoming environment. Activities will include informational booths\, food\, music\, and family-friendly programming designed to inspire resilience\, strengthen community bonds\, and introduce Kindled Pathways as a new organization dedicated to serving the community.
LOCATION:929 N Glenwood Blvd Tyler Texas 75702
UID:e.1648.16186
SEQUENCE:3
DTSTAMP:20260419T174453Z
URL:http://tylerarea.sampleorg.com/events/details/back-to-school-community-connect-project-launch-for-kindled-pathways-16186
END:VEVENT

END:VCALENDAR
