BEGIN:VCALENDAR
VERSION:2.0
PRODID:-//ChamberMaster//Event Calendar 2.0//EN
METHOD:PUBLISH
X-PUBLISHED-TTL:P3D
REFRESH-INTERVAL:P3D
CALSCALE:GREGORIAN
BEGIN:VEVENT
DTSTART:20251018T150000Z
DTEND:20251018T190000Z
X-MICROSOFT-CDO-ALLDAYEVENT:FALSE
SUMMARY:ASCO FALL FESTIVAL
DESCRIPTION:ASCO AND UNBOUND NOW-SUPPORTING THE FIGHT AGAINST HUMAN TRAFFICKING EVERY DOLLAR YOU GIVE WILL BE DOUBLED ASCO IS MATCHING 100% OF ALL PROCEEDS TO SUPPORT UNBOUND NOW GAMES - FOOD - FUN FAMILY FUN\, GOLF BALL DROP\, EQUIPMENT RODEO\, HAY RIDE\, HARD HAT DECORATING\, FACE PAINTING\, SILENT AUCTION\, FOOD TRUCKS\, TOUCH-A-TRACTOR
X-ALT-DESC;FMTTYPE=text/html:ASCO AND UNBOUND NOW-SUPPORTING THE FIGHT AGAINST HUMAN TRAFFICKING EVERY DOLLAR YOU GIVE WILL BE DOUBLED&mdash\;ASCO IS MATCHING 100% OF ALL PROCEEDS TO SUPPORT UNBOUND NOW GAMES - FOOD - FUN FAMILY FUN\, GOLF BALL DROP\, EQUIPMENT RODEO\, HAY RIDE\, HARD HAT DECORATING\, FACE PAINTING\, SILENT AUCTION\, FOOD TRUCKS\, TOUCH-A-TRACTOR
LOCATION:11315 HWY 64 TYLER\, TX 75704
UID:e.1648.16206
SEQUENCE:3
DTSTAMP:20260419T142850Z
URL:http://tylerarea.sampleorg.com/events/details/asco-fall-festival-16206
END:VEVENT

END:VCALENDAR
