BEGIN:VCALENDAR
VERSION:2.0
PRODID:-//ChamberMaster//Event Calendar 2.0//EN
METHOD:PUBLISH
X-PUBLISHED-TTL:P3D
REFRESH-INTERVAL:P3D
CALSCALE:GREGORIAN
BEGIN:VEVENT
DTSTART:20250828T130000Z
DTEND:20250828T140000Z
X-MICROSOFT-CDO-ALLDAYEVENT:FALSE
SUMMARY:Annual Tyler Breakfast with Champions!
DESCRIPTION:Join us for the Annual Tyler Breakfast with Champions! Come meet and hear our athletes tell their stories in their own words. Breakfast with Champions brings together "change-makers" throughout the area for a morning of learning\, inspiration\, networking & making a difference in the lives of Special Olympic Texas athletes. Because of your support\, Special Olympics and its volunteers are able to serve over 55\,000 athletes across Texas as we fight to end discrimination against individuals with intellectual disabilities. Registration is free and includes a breakfast meal for all attendees.
X-ALT-DESC;FMTTYPE=text/html:Join us for the Annual Tyler Breakfast with Champions! Come meet and hear our athletes tell their stories in their own words. Breakfast with Champions brings together &ldquo\;change-makers&rdquo\; throughout the area for a morning of learning\, inspiration\, networking &amp\; making a difference in the lives of Special Olympic Texas athletes. Because of your support\, Special Olympics and its volunteers are able to serve over 55\,000 athletes across Texas as we fight to end discrimination against individuals with intellectual disabilities. Registration is free and includes a breakfast meal for all attendees.
LOCATION:W.T. Brookshire Conference Center\, 2000 West Front Street\, Tyler\, TX
UID:e.1648.16164
SEQUENCE:3
DTSTAMP:20260419T174729Z
URL:http://tylerarea.sampleorg.com/events/details/annual-tyler-breakfast-with-champions-16164
END:VEVENT

END:VCALENDAR
