BEGIN:VCALENDAR
VERSION:2.0
PRODID:-//ChamberMaster//Event Calendar 2.0//EN
METHOD:PUBLISH
X-PUBLISHED-TTL:P3D
REFRESH-INTERVAL:P3D
CALSCALE:GREGORIAN
BEGIN:VEVENT
DTSTART:20241005T230000Z
DTEND:20241006T020000Z
X-MICROSOFT-CDO-ALLDAYEVENT:FALSE
SUMMARY:Angel Layettes "Angels Here & Beyond" Gala
DESCRIPTION:Come join us for a night of elegance and wonder at our in-person event location at the KE Bushman's Winery Celebration Center. Get ready to mingle and enjoy a night filled with magic and beauty. Indulge in delicious food\, dance to heavenly music\, and bid on silent auction items. This is an evening you won't want to miss! So mark your calendars and get your best outfit ready because the Angels Here and Beyond Gala is going to be a night to remember! Angel Layettes is a local East Texas non-profit who is celebrating 20 years of comforting families who have lost an infant at birth. For Sponsorship/Silent Auction opportunities please contact: info.ed@angellayettes.org.
X-ALT-DESC;FMTTYPE=text/html:Come join us for a night of elegance and wonder at our in-person event location at the KE Bushman&#39\;s Winery Celebration Center. Get ready to mingle and enjoy a night filled with magic and beauty. Indulge in delicious food\, dance to heavenly music\, and bid on silent auction items. This is an evening you won&#39\;t want to miss! So mark your calendars and get your best outfit ready because the Angels Here and Beyond Gala is going to be a night to remember! Angel Layettes is a local East Texas non-profit who is celebrating 20 years of comforting families who have lost an infant at birth. For Sponsorship/Silent Auction opportunities please contact: info.ed@angellayettes.org.
LOCATION:1565 FM 2493 E\, Bullard\, TX 75757-
UID:e.1648.15776
SEQUENCE:3
DTSTAMP:20260420T102720Z
URL:http://tylerarea.sampleorg.com/events/details/angel-layettes-angels-here-beyond-gala-15776
END:VEVENT

END:VCALENDAR
