BEGIN:VCALENDAR
VERSION:2.0
PRODID:-//ChamberMaster//Event Calendar 2.0//EN
METHOD:PUBLISH
X-PUBLISHED-TTL:P3D
REFRESH-INTERVAL:P3D
CALSCALE:GREGORIAN
BEGIN:VEVENT
DTSTART:20250405T000000Z
DTEND:20250405T020000Z
X-MICROSOFT-CDO-ALLDAYEVENT:FALSE
SUMMARY:An Acoustic Evening with Doug Stone
DESCRIPTION:90s country hit maker\, Doug Stone\, will be at Liberty Hall on his final tour. Hear his acoustic versions of his biggest chart toppers like "Pine Box\," "In A Different Light\," and many more!
X-ALT-DESC;FMTTYPE=text/html:90s country hit maker\, Doug Stone\, will be at Liberty Hall on his final tour. Hear his acoustic versions of his biggest chart toppers like &ldquo\;Pine Box\,&rdquo\; &ldquo\;In A Different Light\,&rdquo\; and many more!
LOCATION:Liberty Hall
UID:e.1648.16055
SEQUENCE:3
DTSTAMP:20260419T235032Z
URL:http://tylerarea.sampleorg.com/events/details/an-acoustic-evening-with-doug-stone-16055
END:VEVENT

END:VCALENDAR
