BEGIN:VCALENDAR
VERSION:2.0
PRODID:-//ChamberMaster//Event Calendar 2.0//EN
METHOD:PUBLISH
X-PUBLISHED-TTL:P3D
REFRESH-INTERVAL:P3D
CALSCALE:GREGORIAN
BEGIN:VEVENT
DTSTART:20240927T153000Z
DTEND:20240927T203000Z
X-MICROSOFT-CDO-ALLDAYEVENT:FALSE
SUMMARY:American Red Cross Open House & Ribbon Cutting Ceremony
DESCRIPTION:Please join the East Texas Chapter of the American Red Cross to celebrate the Grand Re-Opening of their Tyler Chapter office! Let us share with you what the Red Cross is doing in Tyler and across East Texas. Learn how to be Red Cross Ready\, tour the new renovated chapter office and join in saving a life by donating blood! We will have a Chamber Ribbon Cutting at 11:30 with refreshments to follow!
X-ALT-DESC;FMTTYPE=text/html:Please join the East Texas Chapter of the American Red Cross to celebrate the Grand Re-Opening of their Tyler Chapter office! Let us share with you what the Red Cross is doing in Tyler and across East Texas. Learn how to be Red Cross Ready\, tour the new renovated chapter office and join in saving a life by donating blood! We will have a Chamber Ribbon Cutting at 11:30 with refreshments to follow!
LOCATION:320 East Rieck Road Tyler\, Tx. 75703
UID:e.1648.15799
SEQUENCE:3
DTSTAMP:20260420T102806Z
URL:http://tylerarea.sampleorg.com/events/details/american-red-cross-open-house-ribbon-cutting-ceremony-15799
END:VEVENT

END:VCALENDAR
