BEGIN:VCALENDAR
VERSION:2.0
PRODID:-//ChamberMaster//Event Calendar 2.0//EN
METHOD:PUBLISH
X-PUBLISHED-TTL:P3D
REFRESH-INTERVAL:P3D
CALSCALE:GREGORIAN
BEGIN:VEVENT
DTSTART:20241030T003000Z
DTEND:20241030T020000Z
X-MICROSOFT-CDO-ALLDAYEVENT:FALSE
SUMMARY:Alex Guarnaschelli\, Lecture
DESCRIPTION:Alex Guarnaschelli Tuesday\, October 29\, 2024   7:30 PM Iron Chef Alex Guarnaschelli is a world-renowned chef and one of Food Network's top stars. Guarnaschelli first appeared on the network in 2006 and has since been part of hundreds of episodes of programming on the network\, including as a judge on Chopped\, co-host of The Kitchen\, host of Supermarket Stakeout\, and star of Alex vs America. As a competitor\, she beat nine rival chefs to win The Next Iron Chef: Redemption\, joining the ranks of Kitchen Stadium Iron Chefs. She also hosts the award-winning digital series\, Fix Me a Plate\, and is the author of the cookbooks Old-School Comfort Food: The Way I Learned to Cook (2013)\, The Home Cook: Recipes to Know by Heart (2017)\, and most recently Cook with Me: 150 Recipes for the Home Cook (2020). Guarnaschelli thrills audiences with her unbeatable culinary talents while empowering them to pursue their passions.
X-ALT-DESC;FMTTYPE=text/html:Alex Guarnaschelli Tuesday\, October 29\, 2024 &bull\; 7:30 PM Iron Chef Alex Guarnaschelli is a world-renowned chef and one of Food Network&rsquo\;s top stars. Guarnaschelli first appeared on the network in 2006 and has since been part of hundreds of episodes of programming on the network\, including as a judge on Chopped\, co-host of The Kitchen\, host of Supermarket Stakeout\, and star of Alex vs America. As a competitor\, she beat nine rival chefs to win The Next Iron Chef: Redemption\, joining the ranks of Kitchen Stadium Iron Chefs. She also hosts the award-winning digital series\, Fix Me a Plate\, and is the author of the cookbooks Old-School Comfort Food: The Way I Learned to Cook (2013)\, The Home Cook: Recipes to Know by Heart (2017)\, and most recently Cook with Me: 150 Recipes for the Home Cook (2020). Guarnaschelli thrills audiences with her unbeatable culinary talents while empowering them to pursue their passions.
LOCATION:UT Tyler Cowan Center
UID:e.1648.15747
SEQUENCE:3
DTSTAMP:20260420T085701Z
URL:http://tylerarea.sampleorg.com/events/details/alex-guarnaschelli-lecture-15747
END:VEVENT

END:VCALENDAR
