BEGIN:VCALENDAR
VERSION:2.0
PRODID:-//ChamberMaster//Event Calendar 2.0//EN
METHOD:PUBLISH
X-PUBLISHED-TTL:P3D
REFRESH-INTERVAL:P3D
CALSCALE:GREGORIAN
BEGIN:VEVENT
DTSTART:20250122T013000Z
DTEND:20250122T033000Z
X-MICROSOFT-CDO-ALLDAYEVENT:FALSE
SUMMARY:Ain’t Too Proud – The Life and Times of The Temptations
DESCRIPTION:Ain't Too Proud   The Life and Times of The Temptations Tuesday\, January 21\, 2025   7:30 PM AIN'T TOO PROUD   THE LIFE AND TIMES OF THE TEMPTATIONS is the electrifying smash-hit Broadway musical that follows The Temptations' extraordinary journey from the streets of Detroit to the Rock & Roll Hall of Fame. Nominated for 12 Tony Awards  and the winner of the 2019 Tony Award for Best Choreography\, it's a thrilling story of brotherhood\, family\, loyalty\, and betrayal during a decade of civil unrest in America. Set to the beat of the group's treasured hits\, including "My Girl\," "Just My Imagination\," "Get Ready\," and "Papa Was a Rolling Stone\," AIN'T TOO PROUD tells the unforgettable story of the legendary quintet that Billboard Magazine named the greatest R&B group of all time. Mature content and language
X-ALT-DESC;FMTTYPE=text/html:Ain&rsquo\;t Too Proud &ndash\; The Life and Times of The Temptations Tuesday\, January 21\, 2025 &bull\; 7:30 PM AIN&rsquo\;T TOO PROUD &ndash\; THE LIFE AND TIMES OF THE TEMPTATIONS is the electrifying smash-hit Broadway musical that follows The Temptations&rsquo\; extraordinary journey from the streets of Detroit to the Rock &amp\; Roll Hall of Fame. Nominated for 12 Tony Awards&reg\; and the winner of the 2019 Tony Award for Best Choreography\, it&rsquo\;s a thrilling story of brotherhood\, family\, loyalty\, and betrayal during a decade of civil unrest in America. Set to the beat of the group&rsquo\;s treasured hits\, including &ldquo\;My Girl\,&rdquo\; &ldquo\;Just My Imagination\,&rdquo\; &ldquo\;Get Ready\,&rdquo\; and &ldquo\;Papa Was a Rolling Stone\,&rdquo\; AIN&rsquo\;T TOO PROUD tells the unforgettable story of the legendary quintet that Billboard Magazine named the greatest R&amp\;B group of all time. Mature content and language
LOCATION:UT Tyler Cowan Center
UID:e.1648.15757
SEQUENCE:3
DTSTAMP:20260420T062004Z
URL:http://tylerarea.sampleorg.com/events/details/ain-t-too-proud-the-life-and-times-of-the-temptations-15757
END:VEVENT

END:VCALENDAR
