BEGIN:VCALENDAR
VERSION:2.0
PRODID:-//ChamberMaster//Event Calendar 2.0//EN
METHOD:PUBLISH
X-PUBLISHED-TTL:P3D
REFRESH-INTERVAL:P3D
CALSCALE:GREGORIAN
BEGIN:VEVENT
DTSTART:20250807T150000Z
DTEND:20250807T190000Z
X-MICROSOFT-CDO-ALLDAYEVENT:FALSE
SUMMARY:Age Well: A Healthspan Forum
DESCRIPTION:Hear evidence-based information from expert speakers and community partners for extending healthspan   the number of years lived in good health. The forum aims to raise awareness about the importance of proactive aging\, connect individuals with health and wellness services\, and foster partnerships that support healthy living across the lifespan.
X-ALT-DESC;FMTTYPE=text/html:Hear evidence-based information from expert speakers and community partners for extending healthspan &mdash\; the number of years lived in good health. The forum aims to raise awareness about the importance of proactive aging\, connect individuals with health and wellness services\, and foster partnerships that support healthy living across the lifespan.
LOCATION:Oak Crossing Event Center 101 Glenda St. Whitehouse\, TX 75791
UID:e.1648.16189
SEQUENCE:3
DTSTAMP:20260419T174621Z
URL:http://tylerarea.sampleorg.com/events/details/age-well-a-healthspan-forum-16189
END:VEVENT

END:VCALENDAR
