BEGIN:VCALENDAR
VERSION:2.0
PRODID:-//ChamberMaster//Event Calendar 2.0//EN
METHOD:PUBLISH
X-PUBLISHED-TTL:P3D
REFRESH-INTERVAL:P3D
CALSCALE:GREGORIAN
BEGIN:VEVENT
DTSTART:20240704T120000Z
DTEND:20240704T150000Z
X-MICROSOFT-CDO-ALLDAYEVENT:FALSE
SUMMARY:7TH ANNUAL FREEDOM FIGHTER 5K & LIL’ FIRECRACKER KIDS DASH
DESCRIPTION:Bergfeld Park\, Tyler Texas Come celebrate the Fourth of July holiday with some fitness and fun! Run or walk the patriotic\, family-friendly Freedom Fighter 5K and Lil' Firecracker Kids Dash! All 5K runners will receive commemorative race swag and finisher medal! We are proud to show our gratitude to our military families and will be donating a portion of race proceeds to Boot Campaign! So\, let's #LaceUpAMERICA! It's time to #RunForFreedom! EVENT DETAILS AND SCHEDULE Packet Pick-Up CHRISTUS Orthopedics & Sports Medicine Institute Education Room 8591 S Broadway Ave\, Tyler\, TX 75703 Wednesday\, July 3\, 4PM-7PM Race Day Schedule Thursday\, July 4th\, 2024 Bergfeld Park\, 1510 S College Ave.\, Tyler\, TX 75702 6:30AM - 7:15AM - Race Day Packet Pickup 7:30AM - Kids Dash 5K directly following kids dash! Parking- No parking will be allowed on College Ave. Please try to park along the park before residential areas.
X-ALT-DESC;FMTTYPE=text/html:Bergfeld Park\, Tyler Texas Come celebrate the Fourth of July holiday with some fitness and fun! Run or walk the patriotic\, family-friendly Freedom Fighter 5K and Lil&#39\; Firecracker Kids Dash! All 5K runners will receive commemorative race swag and finisher medal! We are proud to show our gratitude to our military families and will be donating a portion of race proceeds to Boot Campaign! So\, let&rsquo\;s #LaceUpAMERICA! It&rsquo\;s time to #RunForFreedom! EVENT DETAILS AND SCHEDULE Packet Pick-Up CHRISTUS Orthopedics &amp\; Sports Medicine Institute Education Room 8591 S Broadway Ave\, Tyler\, TX 75703 Wednesday\, July 3\, 4PM-7PM Race Day Schedule Thursday\, July 4th\, 2024 Bergfeld Park\, 1510 S College Ave.\, Tyler\, TX 75702 6:30AM - 7:15AM - Race Day Packet Pickup 7:30AM - Kids Dash 5K directly following kids dash! Parking- No parking will be allowed on College Ave. Please try to park along the park before residential areas.
LOCATION:Bergfeld Park
UID:e.1648.15742
SEQUENCE:3
DTSTAMP:20260420T132719Z
URL:http://tylerarea.sampleorg.com/events/details/7th-annual-freedom-fighter-5k-lil-firecracker-kids-dash-15742
END:VEVENT

END:VCALENDAR
