BEGIN:VCALENDAR
VERSION:2.0
PRODID:-//ChamberMaster//Event Calendar 2.0//EN
METHOD:PUBLISH
X-PUBLISHED-TTL:P3D
REFRESH-INTERVAL:P3D
CALSCALE:GREGORIAN
BEGIN:VEVENT
DTSTART:20251018T200000Z
DTEND:20251019T010000Z
X-MICROSOFT-CDO-ALLDAYEVENT:FALSE
SUMMARY:.5K Pints for Polio
DESCRIPTION:???? ??????\, ?????? ???????? ???????? ??????????  ????'?? ???????? .????!! That's just 546 yards (basically the distance from the couch to the fridge ??????). ???????? ???? ?????? South Tyler Rotary Club ?????????? ?????? ?????????? ???? ?????????????? ????\, ????????\, ???? ???????? ?????????? ?????????????? to raise awareness and funds to end Polio! .5K ???????? ???????????? ???? ??:???? ???? ??????????! ?????????????????? ???????????????? ????????????????????! (Yes\, even if you want to dress as a taco or vampire ) https://southtylerrotaryfoundation.square.site/
X-ALT-DESC;FMTTYPE=text/html:???? ??????\, ?????? ???????? ???????? ??????????&hellip\; ????&rsquo\;?? ???????? .????!! That&rsquo\;s just 546 yards (basically the distance from the couch to the fridge ??????). ???????? ???? ?????? South Tyler Rotary Club ?????????? ?????? ?????????? ???? ?????????????? ????\, ????????\, ???? ???????? ?????????? ?????????????? to raise awareness and funds to end Polio! .5K ???????? ???????????? ???? ??:???? ???? ??????????! ?????????????????? ???????????????? ????????????????????! (Yes\, even if you want to dress as a taco or vampire ) https://southtylerrotaryfoundation.square.site/
LOCATION:East Texas Brewery
UID:e.1648.16222
SEQUENCE:3
DTSTAMP:20260419T142735Z
URL:http://tylerarea.sampleorg.com/events/details/5k-pints-for-polio-16222
END:VEVENT

END:VCALENDAR
