BEGIN:VCALENDAR
VERSION:2.0
PRODID:-//ChamberMaster//Event Calendar 2.0//EN
METHOD:PUBLISH
X-PUBLISHED-TTL:P3D
REFRESH-INTERVAL:P3D
CALSCALE:GREGORIAN
BEGIN:VEVENT
DTSTART:20250529T230000Z
DTEND:20250530T020000Z
X-MICROSOFT-CDO-ALLDAYEVENT:FALSE
SUMMARY:3rd Annual Mistletoe & Magic Pickleball Event
DESCRIPTION:Join the Junior League of Tyler as we kick off our first event supporting our Mistletoe & Magic 2025 Fundraiser with a Pickleball Event! All players welcome! No experience needed. Bring your paddles if you have them. Ticket options: Single Adult Player - includes courtside dinner Couple Adult Player - includes courtside dinner for both adults Single Child Player - includes courtside dinner Observer with dinner (adult or child) - watch the tournament while enjoying a courtside dinner Family - includes 2 adults and 2 children's tickets with courtside dinner *Cash bar available to all in attendance for additional purchase
X-ALT-DESC;FMTTYPE=text/html:Join the Junior League of Tyler as we kick off our first event supporting our Mistletoe &amp\; Magic 2025 Fundraiser with a Pickleball Event! All players welcome! No experience needed. Bring your paddles if you have them. Ticket options: Single Adult Player - includes courtside dinner Couple Adult Player - includes courtside dinner for both adults Single Child Player - includes courtside dinner Observer with dinner (adult or child) - watch the tournament while enjoying a courtside dinner Family - includes 2 adults and 2 children&#39\;s tickets with courtside dinner *Cash bar available to all in attendance for additional purchase
LOCATION:Tyler Athletic & Swim Club
UID:e.1648.16151
SEQUENCE:3
DTSTAMP:20260419T221002Z
URL:http://tylerarea.sampleorg.com/events/details/3rd-annual-mistletoe-magic-pickleball-event-16151
END:VEVENT

END:VCALENDAR
