BEGIN:VCALENDAR
VERSION:2.0
PRODID:-//ChamberMaster//Event Calendar 2.0//EN
METHOD:PUBLISH
X-PUBLISHED-TTL:P3D
REFRESH-INTERVAL:P3D
CALSCALE:GREGORIAN
BEGIN:VEVENT
DTSTART:20261006T163000Z
DTEND:20261006T183000Z
X-MICROSOFT-CDO-ALLDAYEVENT:FALSE
SUMMARY:2026 TYLER AREA CHAMBER OF COMMERCE ANNUAL MEETING
DESCRIPTION:Join Us For The Tyler Area Chamber of Commerce Annual Meeting and Luncheon!
X-ALT-DESC;FMTTYPE=text/html:Join Us For The Tyler Area Chamber of Commerce Annual Meeting and Luncheon!<br />\n<br />\n&nbsp\;
LOCATION:W. T. Brookshire Conference Center 2000 W. Front Street Tyler\, TX 75702
UID:e.1648.16175
SEQUENCE:3
DTSTAMP:20260419T143421Z
URL:http://tylerarea.sampleorg.com/events/details/2026-tyler-area-chamber-of-commerce-annual-meeting-16175
END:VEVENT

END:VCALENDAR
