BEGIN:VCALENDAR
VERSION:2.0
PRODID:-//ChamberMaster//Event Calendar 2.0//EN
METHOD:PUBLISH
X-PUBLISHED-TTL:P3D
REFRESH-INTERVAL:P3D
CALSCALE:GREGORIAN
BEGIN:VEVENT
DTSTART:20260204T213000Z
DTEND:20260204T230000Z
X-MICROSOFT-CDO-ALLDAYEVENT:FALSE
SUMMARY:2026 Business Seminar Series - Eric Kolder
DESCRIPTION:2026 EMPLOYMENT LAW UPDATE - IMPORTANT DEVELOPMENTS OVER THE COURSE OF EMPLOYMENT LAW THAT BUSINESSES NEED TO KNOW.
X-ALT-DESC;FMTTYPE=text/html:2026 EMPLOYMENT LAW UPDATE - IMPORTANT DEVELOPMENTS OVER THE COURSE OF EMPLOYMENT LAW THAT BUSINESSES NEED TO KNOW.
LOCATION:Genecov Room Tyler Area Chamber of Commerce 315 N Broadway Tyler\, TX 75702
UID:e.1648.16299
SEQUENCE:3
DTSTAMP:20260421T104408Z
URL:http://tylerarea.sampleorg.com/events/details/2026-business-seminar-series-eric-kolder-16299
END:VEVENT

END:VCALENDAR
