BEGIN:VCALENDAR
VERSION:2.0
PRODID:-//ChamberMaster//Event Calendar 2.0//EN
METHOD:PUBLISH
X-PUBLISHED-TTL:P3D
REFRESH-INTERVAL:P3D
CALSCALE:GREGORIAN
BEGIN:VEVENT
DTSTART:20260115T173000Z
DTEND:20260115T190000Z
X-MICROSOFT-CDO-ALLDAYEVENT:FALSE
SUMMARY:2026 42nd Economic Outlook by Dr. Ray Perryman
DESCRIPTION:2026 ECONOMIC OUTLOOK BY DR. RAY PERRYMAN
X-ALT-DESC;FMTTYPE=text/html:<div style="color: gray\;"><span style="font-size:16px\;"><strong>2026&nbsp\;ECONOMIC OUTLOOK BY DR. RAY PERRYMAN</strong></span><br />\n&nbsp\;</div>\n\n<div class="copyIcon copy1">&nbsp\;</div>\n\n<div class="pasteIcon paste0">&nbsp\;</div>\n\n<div class="notifyIcon" style="display: none\;">&nbsp\;</div>\n
LOCATION:W. T. Brookshire Conference Center 2000 W. Front Street Tyler 75702
UID:e.1648.15973
SEQUENCE:3
DTSTAMP:20260421T104408Z
URL:http://tylerarea.sampleorg.com/events/details/2026-42nd-economic-outlook-by-dr-ray-perryman-15973
END:VEVENT

END:VCALENDAR
