BEGIN:VCALENDAR
VERSION:2.0
PRODID:-//ChamberMaster//Event Calendar 2.0//EN
METHOD:PUBLISH
X-PUBLISHED-TTL:P3D
REFRESH-INTERVAL:P3D
CALSCALE:GREGORIAN
BEGIN:VEVENT
DTSTART:20251007T163000Z
DTEND:20251007T183000Z
X-MICROSOFT-CDO-ALLDAYEVENT:FALSE
SUMMARY:2025 TYLER AREA CHAMBER OF COMMERCE ANNUAL MEETING
DESCRIPTION:Join Us For The Tyler Area Chamber of Commerce Annual Meeting and Luncheon!\n\n\n\nYou can now nominate a business for Business of the Year by following the link: https://business.tylertexas.com/form/view/37083
X-ALT-DESC;FMTTYPE=text/html:Join Us For The Tyler Area Chamber of Commerce Annual Meeting and Luncheon!<br />\n<br />\nYou can now nominate a business for Business of the Year by following the link:&nbsp\;<a href="https://business.tylertexas.com/form/view/37083">https://business.tylertexas.com/form/view/37083</a>
LOCATION:W. T. Brookshire Conference Center 2000 W. Front Street Tyler\, TX 75702
UID:e.1648.15892
SEQUENCE:3
DTSTAMP:20260419T143422Z
URL:http://tylerarea.sampleorg.com/events/details/2025-tyler-area-chamber-of-commerce-annual-meeting-15892
END:VEVENT

END:VCALENDAR
