BEGIN:VCALENDAR
VERSION:2.0
PRODID:-//ChamberMaster//Event Calendar 2.0//EN
METHOD:PUBLISH
X-PUBLISHED-TTL:P3D
REFRESH-INTERVAL:P3D
CALSCALE:GREGORIAN
BEGIN:VEVENT
DTSTART:20250908T140000Z
DTEND:20250908T220000Z
X-MICROSOFT-CDO-ALLDAYEVENT:FALSE
SUMMARY:2025 TACC Annual Golf Classic
DESCRIPTION:The 25th Annual Tyler Area Chamber of Commerce Golf Classic will be Monday\, September 8\, 2025 at Willow Brook Country Club.  If you commit by August 20\, you will receive an extra benefit of being listed as a sponsor in the brochure emailed to all Chamber members announcing the tournament.  This gives even more exposure to potential customers for the same sponsorship fee.\n\n\n\n \nFOUR MAN SCRAMBLE\n\nRegistration at 9am * Driving Range from 9-11am * Lunch provided from 11am to 12pm * Shotgun Start at 12:30pm\n\nPRIZE AWARDS\n\nLongest Drive * Closet to the Pin * Putting Contest * Hole-in-One * Team Awards for 1st\, 2nd & 3rd Place
X-ALT-DESC;FMTTYPE=text/html:<span style="font-size:16px\;"><span style="font-family:times new roman\,serif\;">The 25th Annual Tyler Area Chamber of Commerce Golf Classic will be <strong>Monday\, September 8\, 2025</strong>&nbsp\;at <strong>Willow Brook Country Club.</strong>&nbsp\; If you commit by August 20\, you will receive an extra benefit of being listed as a sponsor in the brochure emailed to all Chamber members announcing the tournament.&nbsp\; This gives even more exposure to potential customers for the same sponsorship fee.</span></span><br />\n<br />\n&nbsp\;\n<p style="font-family: &quot\;Helvetica Neue&quot\;\, Helvetica\, Arial\, sans-serif\; font-size: 13px\; line-height: 1.6em\;"><strong>FOUR MAN SCRAMBLE</strong></p>\n\n<p style="font-family: &quot\;Helvetica Neue&quot\;\, Helvetica\, Arial\, sans-serif\; font-size: 13px\; line-height: 1.6em\;">Registration at 9am * Driving Range from 9-11am * Lunch provided from 11am to 12pm * Shotgun Start at 12:30pm</p>\n\n<p style="font-family: &quot\;Helvetica Neue&quot\;\, Helvetica\, Arial\, sans-serif\; font-size: 13px\; line-height: 1.6em\;"><strong>PRIZE AWARDS</strong></p>\n\n<p style="font-family: &quot\;Helvetica Neue&quot\;\, Helvetica\, Arial\, sans-serif\; font-size: 13px\; line-height: 1.6em\;">Longest Drive * Closet to the Pin * Putting Contest * Hole-in-One * Team Awards for 1st\, 2nd &amp\; 3rd Place</p>\n
LOCATION:Willow Brook Country Club 3205 W. Erwin Street Tyler\, TX 75702
UID:e.1648.15891
SEQUENCE:3
DTSTAMP:20260419T160332Z
URL:http://tylerarea.sampleorg.com/events/details/2025-tacc-annual-golf-classic-15891
END:VEVENT

END:VCALENDAR
