BEGIN:VCALENDAR
VERSION:2.0
PRODID:-//ChamberMaster//Event Calendar 2.0//EN
METHOD:PUBLISH
X-PUBLISHED-TTL:P3D
REFRESH-INTERVAL:P3D
CALSCALE:GREGORIAN
BEGIN:VEVENT
DTSTART:20250517T140000Z
DTEND:20250517T200000Z
X-MICROSOFT-CDO-ALLDAYEVENT:FALSE
SUMMARY:2025 Smith County Master Gardeners Association Home Garden Tour
DESCRIPTION:Take a stroll through five (5) lovely local gardens and learn helpful garden tips and tricks.
X-ALT-DESC;FMTTYPE=text/html:Take a stroll through five (5) lovely local gardens and learn helpful garden tips and tricks.
LOCATION:various local gardens
UID:e.1648.16075
SEQUENCE:3
DTSTAMP:20260419T221716Z
URL:http://tylerarea.sampleorg.com/events/details/2025-smith-county-master-gardeners-association-home-garden-tour-16075
END:VEVENT

END:VCALENDAR
