BEGIN:VCALENDAR
VERSION:2.0
PRODID:-//ChamberMaster//Event Calendar 2.0//EN
METHOD:PUBLISH
X-PUBLISHED-TTL:P3D
REFRESH-INTERVAL:P3D
CALSCALE:GREGORIAN
BEGIN:VEVENT
DTSTART:20251029T133000Z
DTEND:20251029T190000Z
X-MICROSOFT-CDO-ALLDAYEVENT:FALSE
SUMMARY:2025 Senior Health & Living Expo
DESCRIPTION:23rd ANNUAL SENIOR HEALTH & LIVING EXPO!\n\n\n\n\n\nGift Card Giveaways!\n\nFree Health Screenings\n\nSenior Health Information\n\nOver 75 Exhibitors\n\nCommitment Letter and more information about sponsoring this event.
X-ALT-DESC;FMTTYPE=text/html:<div style="color: gray\;">\n<div style="color: gray\;"><span style="font-size:20px\;"><span style="font-family:arial\;"><strong>23rd&nbsp\;ANNUAL&nbsp\;SENIOR HEALTH &amp\; LIVING EXPO!</strong></span></span><br />\n<br />\n<br />\nGift Card Giveaways!<br />\nFree Health Screenings<br />\nSenior Health Information<br />\nOver 75 Exhibitors<br />\n<a href="https://chambermaster.blob.core.windows.net/userfiles/UserFiles/chambers/1648/File/SeniorExpoEventSponsorshipOpportunities2025.docx">Commitment Letter and&nbsp\;more information about sponsoring this event.</a></div>\n</div>\n\n<div class="pasteIcon paste0">&nbsp\;</div>\n\n<div class="notifyIcon" style="display: none\;">&nbsp\;</div>\n
LOCATION:W. T. Brookshire Conference Center 2000 W. Front Street Tyler\, TX 75702
UID:e.1648.15893
SEQUENCE:3
DTSTAMP:20260419T143422Z
URL:http://tylerarea.sampleorg.com/events/details/2025-senior-health-living-expo-15893
END:VEVENT

END:VCALENDAR
