BEGIN:VCALENDAR
VERSION:2.0
PRODID:-//ChamberMaster//Event Calendar 2.0//EN
METHOD:PUBLISH
X-PUBLISHED-TTL:P3D
REFRESH-INTERVAL:P3D
CALSCALE:GREGORIAN
BEGIN:VEVENT
DTSTART:20250924T123000Z
DTEND:20250924T133000Z
X-MICROSOFT-CDO-ALLDAYEVENT:FALSE
SUMMARY:2025 Quarterly Power Networking Breakfast - September 24\, 2025
DESCRIPTION:QUARTERLY POWER NETWORKING BREAKFAST!\n\nBREAKFAST & NETWORKING!
X-ALT-DESC;FMTTYPE=text/html:QUARTERLY POWER NETWORKING BREAKFAST!<br />\nBREAKFAST &amp\; NETWORKING!
LOCATION:Career and Technology Center Room A101 3013 Earl Campbell Parkway Tyler 75701
UID:e.1648.15557
SEQUENCE:3
DTSTAMP:20260419T160238Z
URL:http://tylerarea.sampleorg.com/events/details/2025-quarterly-power-networking-breakfast-september-24-2025-15557
END:VEVENT

END:VCALENDAR
