BEGIN:VCALENDAR
VERSION:2.0
PRODID:-//ChamberMaster//Event Calendar 2.0//EN
METHOD:PUBLISH
X-PUBLISHED-TTL:P3D
REFRESH-INTERVAL:P3D
CALSCALE:GREGORIAN
BEGIN:VEVENT
DTSTART:20251120T230000Z
DTEND:20251121T010000Z
X-MICROSOFT-CDO-ALLDAYEVENT:FALSE
SUMMARY:2025 November Business After Hours
DESCRIPTION:November 2025 Business After Hours\n\nHosted by Realty One Group Rose
X-ALT-DESC;FMTTYPE=text/html:November 2025 Business After Hours<br />\nHosted by Realty One Group Rose<br />\n&nbsp\;
LOCATION:Realty One Group Rose
UID:e.1648.15582
SEQUENCE:3
DTSTAMP:20260419T125642Z
URL:http://tylerarea.sampleorg.com/events/details/2025-november-business-after-hours-15582
END:VEVENT

END:VCALENDAR
