BEGIN:VCALENDAR
VERSION:2.0
PRODID:-//ChamberMaster//Event Calendar 2.0//EN
METHOD:PUBLISH
X-PUBLISHED-TTL:P3D
REFRESH-INTERVAL:P3D
CALSCALE:GREGORIAN
BEGIN:VEVENT
DTSTART:20250522T220000Z
DTEND:20250523T000000Z
X-MICROSOFT-CDO-ALLDAYEVENT:FALSE
SUMMARY:2025 May Business After Hours
DESCRIPTION:May 2025 Business After Hours\n\nHosted by Pratt Homes
X-ALT-DESC;FMTTYPE=text/html:May 2025 Business After Hours<br />\nHosted by Pratt Homes<br />\n&nbsp\;
LOCATION:Pratt Homes 310A SSE Loop 323 Tyler\, TX 75702 (903) 593-6300
UID:e.1648.15576
SEQUENCE:3
DTSTAMP:20260419T234722Z
URL:http://tylerarea.sampleorg.com/events/details/2025-may-business-after-hours-15576
END:VEVENT

END:VCALENDAR
