BEGIN:VCALENDAR
VERSION:2.0
PRODID:-//ChamberMaster//Event Calendar 2.0//EN
METHOD:PUBLISH
X-PUBLISHED-TTL:P3D
REFRESH-INTERVAL:P3D
CALSCALE:GREGORIAN
BEGIN:VEVENT
DTSTART:20250327T220000Z
DTEND:20250328T000000Z
X-MICROSOFT-CDO-ALLDAYEVENT:FALSE
SUMMARY:2025 March Business After Hours
DESCRIPTION:March 2025 Business After Hours\n\nHosted by Callynth Photography
X-ALT-DESC;FMTTYPE=text/html:March 2025 Business After Hours<br />\nHosted by Callynth Photography<br />\n&nbsp\;
LOCATION:Callynth Photography 117 E. Erwin Street Tyler\, TX 75702
UID:e.1648.15897
SEQUENCE:3
DTSTAMP:20260420T011652Z
URL:http://tylerarea.sampleorg.com/events/details/2025-march-business-after-hours-15897
END:VEVENT

END:VCALENDAR
