BEGIN:VCALENDAR
VERSION:2.0
PRODID:-//ChamberMaster//Event Calendar 2.0//EN
METHOD:PUBLISH
X-PUBLISHED-TTL:P3D
REFRESH-INTERVAL:P3D
CALSCALE:GREGORIAN
BEGIN:VEVENT
DTSTART:20250626T220000Z
DTEND:20250627T000000Z
X-MICROSOFT-CDO-ALLDAYEVENT:FALSE
SUMMARY:2025 June Business After Hours
DESCRIPTION:June 2025 Business After Hours\n\nHosted by Broadway Square Mall
X-ALT-DESC;FMTTYPE=text/html:June 2025 Business After Hours<br />\nHosted by Broadway Square Mall<br />\n&nbsp\;
LOCATION:Broadway Square Mall 4601 S Broadway Ave Tyler\, TX 75703 (903) 561-7055
UID:e.1648.15577
SEQUENCE:3
DTSTAMP:20260419T205043Z
URL:http://tylerarea.sampleorg.com/events/details/2025-june-business-after-hours-15577
END:VEVENT

END:VCALENDAR
