BEGIN:VCALENDAR
VERSION:2.0
PRODID:-//ChamberMaster//Event Calendar 2.0//EN
METHOD:PUBLISH
X-PUBLISHED-TTL:P3D
REFRESH-INTERVAL:P3D
CALSCALE:GREGORIAN
BEGIN:VEVENT
DTSTART:20250220T070000Z
DTEND:20250220T090000Z
X-MICROSOFT-CDO-ALLDAYEVENT:FALSE
SUMMARY:2025 February Business After Hours
DESCRIPTION:February Business After Hours hosted by Ables-Land\, Inc.\n\nTo be held at the 2025 Accelerate Business Expo!
X-ALT-DESC;FMTTYPE=text/html:February Business After Hours hosted by Ables-Land\, Inc.<br />\nTo be held at the 2025 Accelerate Business Expo!
LOCATION:W. T. Brookshire Conference Center 2000 W. Front Street Tyler 75702
UID:e.1648.15896
SEQUENCE:3
DTSTAMP:20260420T025257Z
URL:http://tylerarea.sampleorg.com/events/details/2025-february-business-after-hours-15896
END:VEVENT

END:VCALENDAR
