BEGIN:VCALENDAR
VERSION:2.0
PRODID:-//ChamberMaster//Event Calendar 2.0//EN
METHOD:PUBLISH
X-PUBLISHED-TTL:P3D
REFRESH-INTERVAL:P3D
CALSCALE:GREGORIAN
BEGIN:VEVENT
DTSTART:20250109T190000Z
DTEND:20250109T210000Z
X-MICROSOFT-CDO-ALLDAYEVENT:FALSE
SUMMARY:2025 Economic Outlook Bonus Session Presented by Lavender Warr
DESCRIPTION:2025 ECONOMIC OUTLOOK BONUS SESSION PRESENTED BY LAVENDER WARR\n\nTHE GREAT WEALTH TRANSFER\n\nMASTERING THE UNPRECEDENTED SHIFT IN BUSINESS OWNERSHIP
X-ALT-DESC;FMTTYPE=text/html:<div style="color: gray\;"><span style="font-size:16px\;"><strong>2025&nbsp\;ECONOMIC OUTLOOK BONUS SESSION PRESENTED BY LAVENDER WARR<br />\n<span style="color:#A52A2A\;">THE GREAT WEALTH TRANSFER</span></strong></span><br />\n<em><strong>MASTERING THE UNPRECEDENTED SHIFT IN BUSINESS OWNERSHIP</strong></em><br />\n&nbsp\;</div>\n\n<div class="copyIcon copy1">&nbsp\;</div>\n\n<div class="pasteIcon paste0">&nbsp\;</div>\n\n<div class="notifyIcon" style="display: none\;">&nbsp\;</div>\n
LOCATION:W. T. Brookshire Conference Center 2000 W. Front Street Tyler 75702
UID:e.1648.15901
SEQUENCE:3
DTSTAMP:20260420T062005Z
URL:http://tylerarea.sampleorg.com/events/details/2025-economic-outlook-bonus-session-presented-by-lavender-warr-15901
END:VEVENT

END:VCALENDAR
