BEGIN:VCALENDAR
VERSION:2.0
PRODID:-//ChamberMaster//Event Calendar 2.0//EN
METHOD:PUBLISH
X-PUBLISHED-TTL:P3D
REFRESH-INTERVAL:P3D
CALSCALE:GREGORIAN
BEGIN:VEVENT
DTSTART:20251008T133000Z
DTEND:20251008T223000Z
X-MICROSOFT-CDO-ALLDAYEVENT:FALSE
SUMMARY:2025 CYBERSECURITY CONFERENCE
DESCRIPTION:TACC TECHNOLOGY COMMITTEE\n\n2025 CYBERSECURITY CONFERENCE
X-ALT-DESC;FMTTYPE=text/html:<span style="font-size:18px\;"><span style="font-family:arial\;">TACC TECHNOLOGY COMMITTEE<br />\n2025 CYBERSECURITY CONFERENCE</span></span>
LOCATION:The W. T. Brookshire Conference Center 2000 W. Front Street Tyler 75201
UID:e.1648.16159
SEQUENCE:3
DTSTAMP:20260419T142730Z
URL:http://tylerarea.sampleorg.com/events/details/2025-cybersecurity-conference-16159
END:VEVENT

END:VCALENDAR
