BEGIN:VCALENDAR
VERSION:2.0
PRODID:-//ChamberMaster//Event Calendar 2.0//EN
METHOD:PUBLISH
X-PUBLISHED-TTL:P3D
REFRESH-INTERVAL:P3D
CALSCALE:GREGORIAN
BEGIN:VEVENT
DTSTART:20250730T203000Z
DTEND:20250730T220000Z
X-MICROSOFT-CDO-ALLDAYEVENT:FALSE
SUMMARY:2025 Business Seminar Series - Texas Workforce Commission Seminar
DESCRIPTION:LEVERAGING TEXAS WORKFORCE COMMISSION FUNDS FOR TRAINING AND UPSKILLING - PANEL DISCUSSION!\n\nFREE SEMINAR - REGISTRATION IS REQUIRED!
X-ALT-DESC;FMTTYPE=text/html:LEVERAGING TEXAS WORKFORCE COMMISSION FUNDS FOR TRAINING AND UPSKILLING - P<font color="#112b3c">ANEL DISCUSSION!</font><br />\nFREE SEMINAR - <a href="https://www.eventbrite.com/e/1384215849869?aff=oddtdtcreator">REGISTRATION IS REQUIRED!</a>
LOCATION:Genecov Room Tyler Area Chamber of Commerce 315 N Broadway Tyler\, TX 75702
UID:e.1648.16161
SEQUENCE:3
DTSTAMP:20260419T203904Z
URL:http://tylerarea.sampleorg.com/events/details/2025-business-seminar-series-texas-workforce-commission-seminar-16161
END:VEVENT

END:VCALENDAR
