BEGIN:VCALENDAR
VERSION:2.0
PRODID:-//ChamberMaster//Event Calendar 2.0//EN
METHOD:PUBLISH
X-PUBLISHED-TTL:P3D
REFRESH-INTERVAL:P3D
CALSCALE:GREGORIAN
BEGIN:VEVENT
DTSTART:20250520T200000Z
DTEND:20250520T230000Z
X-MICROSOFT-CDO-ALLDAYEVENT:FALSE
SUMMARY:2025 Building a Life Science Entrepreneurial Ecosystem
DESCRIPTION:Join BioNTX and the UT Tyler School of Medicine for the second annual symposium on Building a Life Science Entrepreneurial Ecosystem. This event highlights groundbreaking biomedical research and explores key topics like intellectual property\, funding strategies\, and entrepreneurial success stories. Gain insights into the region's growing life science industry and its impact on innovation and healthcare.
X-ALT-DESC;FMTTYPE=text/html:Join BioNTX and the UT Tyler School of Medicine for the second annual symposium on Building a Life Science Entrepreneurial Ecosystem. This event highlights groundbreaking biomedical research and explores key topics like intellectual property\, funding strategies\, and entrepreneurial success stories. Gain insights into the region&rsquo\;s growing life science industry and its impact on innovation and healthcare.
LOCATION:UT Tyler Health Science Center\, Biomedical Research Building Auditorium 11937 US Hwy 271 Tyler\, TX 75708 United States
UID:e.1648.16139
SEQUENCE:3
DTSTAMP:20260419T221537Z
URL:http://tylerarea.sampleorg.com/events/details/2025-building-a-life-science-entrepreneurial-ecosystem-16139
END:VEVENT

END:VCALENDAR
