BEGIN:VCALENDAR
VERSION:2.0
PRODID:-//ChamberMaster//Event Calendar 2.0//EN
METHOD:PUBLISH
X-PUBLISHED-TTL:P3D
REFRESH-INTERVAL:P3D
CALSCALE:GREGORIAN
BEGIN:VEVENT
DTSTART:20250828T220000Z
DTEND:20250829T000000Z
X-MICROSOFT-CDO-ALLDAYEVENT:FALSE
SUMMARY:2025 August Business After Hours
DESCRIPTION:August 2025 Business After Hours\n\nHosted by Better Business Bureau
X-ALT-DESC;FMTTYPE=text/html:August 2025 Business After Hours<br />\nHosted by Better Business Bureau<br />\n&nbsp\;
LOCATION:Better Business Bureau
UID:e.1648.15579
SEQUENCE:3
DTSTAMP:20260419T191512Z
URL:http://tylerarea.sampleorg.com/events/details/2025-august-business-after-hours-15579
END:VEVENT

END:VCALENDAR
