BEGIN:VCALENDAR
VERSION:2.0
PRODID:-//ChamberMaster//Event Calendar 2.0//EN
METHOD:PUBLISH
X-PUBLISHED-TTL:P3D
REFRESH-INTERVAL:P3D
CALSCALE:GREGORIAN
BEGIN:VEVENT
DTSTART:20250220T190000Z
DTEND:20250221T000000Z
X-MICROSOFT-CDO-ALLDAYEVENT:FALSE
SUMMARY:2025 ACCELERATE BUSINESS EXPO - 30th Annual Business-2-Business
DESCRIPTION:2025 ACCELERATE BUSINESS EXPO!\n\n1:00 - 6:00 PM - \nThe 2025 Business Expo gives Tyler Area Businesses the perfect opportunity to exhibit their latest services and products.
X-ALT-DESC;FMTTYPE=text/html:2025 ACCELERATE BUSINESS EXPO!<br />\n1:00 - 6:00 PM -&nbsp\;\n<p><span style="color: rgb(51\, 51\, 51)\; font-family: sans-serif\, Arial\, Verdana\, &quot\;Trebuchet MS&quot\;\; background-color: rgb(255\, 255\, 255)\; font-size: 12px\;"><span style="font-family: tahoma\;"><span style="color: black\;">The&nbsp\;</span><strong>2025&nbsp\;Business Expo</strong><span style="color: black\;">&nbsp\;gives Tyler Are</span><span style="color: black\;">a</span><span style="color: black\;">&nbsp\;Businesses the perfect opportunity to exhibit their latest services and products.</span></span></span></p>\n\n<div class="notifyIcon" style="display: none\;">&nbsp\;</div>\n
LOCATION:W. T. Brookshire Conference Center 2000 W. Front Street Tyler\, TX 75702
UID:e.1648.15720
SEQUENCE:3
DTSTAMP:20260420T025256Z
URL:http://tylerarea.sampleorg.com/events/details/2025-accelerate-business-expo-30th-annual-business-2-business-15720
END:VEVENT

END:VCALENDAR
