BEGIN:VCALENDAR
VERSION:2.0
PRODID:-//ChamberMaster//Event Calendar 2.0//EN
METHOD:PUBLISH
X-PUBLISHED-TTL:P3D
REFRESH-INTERVAL:P3D
CALSCALE:GREGORIAN
BEGIN:VEVENT
DTSTART:20250807T213000Z
DTEND:20250808T003000Z
X-MICROSOFT-CDO-ALLDAYEVENT:FALSE
SUMMARY:2025 12th Annual #School is Cool
DESCRIPTION:12th ANNUAL #SCHOOL IS COOL\n\nFor Parents and Students!  (prekindergarten - 12th grade)\n\nBackpack distribution is on a first-come\, first-served basis.\n\nStudent must be present to receive a free backpack.\n\nSPONSORSHIPS AVAILABLE HERE!
X-ALT-DESC;FMTTYPE=text/html:12th ANNUAL #SCHOOL IS COOL<br />\nFor Parents and Students!&nbsp\; (prekindergarten - 12th grade)<br />\nBackpack distribution is on a first-come\, first-served basis.<br />\nStudent must be present to receive a free backpack.<br />\n<a href="https://www.eventbrite.com/e/1273765951249?aff=oddtdtcreator">SPONSORSHIPS AVAILABLE HERE!</a>
LOCATION:W. T. BROOKSHIRE CONFERENCE CENTER & ROSE GARDEN CENTER 2000 W. Front Street Tyler\, TX
UID:e.1648.15889
SEQUENCE:3
DTSTAMP:20260419T174652Z
URL:http://tylerarea.sampleorg.com/events/details/2025-12th-annual-school-is-cool-15889
END:VEVENT

END:VCALENDAR
