BEGIN:VCALENDAR
VERSION:2.0
PRODID:-//ChamberMaster//Event Calendar 2.0//EN
METHOD:PUBLISH
X-PUBLISHED-TTL:P3D
REFRESH-INTERVAL:P3D
CALSCALE:GREGORIAN
BEGIN:VEVENT
DTSTART:20241003T220000Z
DTEND:20241004T010000Z
X-MICROSOFT-CDO-ALLDAYEVENT:FALSE
SUMMARY:2024 TEXAS VENTURE FEST
DESCRIPTION:TEXAS VENTURE FEST\, A TRULY "TEXAS-SIZED" EVENT THAT CELEBRATES OUR STATE'S VIBRANT STARTUP ECOSYSTEM!
X-ALT-DESC;FMTTYPE=text/html:TEXAS VENTURE FEST\, A TRULY &quot\;TEXAS-SIZED&quot\; EVENT THAT CELEBRATES OUR STATE&#39\;S VIBRANT STARTUP ECOSYSTEM!
LOCATION:TRUE VINE BREWING CO. 2453 Earl Campbell Parkway Tyler\, Texas in the Mosaic District
UID:e.1648.15830
SEQUENCE:3
DTSTAMP:20260420T085934Z
URL:http://tylerarea.sampleorg.com/events/details/2024-texas-venture-fest-15830
END:VEVENT

END:VCALENDAR
