BEGIN:VCALENDAR
VERSION:2.0
PRODID:-//ChamberMaster//Event Calendar 2.0//EN
METHOD:PUBLISH
X-PUBLISHED-TTL:P3D
REFRESH-INTERVAL:P3D
CALSCALE:GREGORIAN
BEGIN:VEVENT
DTSTART:20240830T163000Z
DTEND:20240830T180000Z
X-MICROSOFT-CDO-ALLDAYEVENT:FALSE
SUMMARY:2024 BUSINESS SERIES - PART 2 - BRAND MARKETING MASTER CLASS
DESCRIPTION:2024 BUSINESS SEMINAR SERIES\n\nPART 2 - BRAND MARKETING MASTER CLASS\n\nDRIVE SALES AND LOYALTY WITH EFFECTIVE STORYTELLING!\n\nBOOK YOUR TICKETS NOW!\n\n\n\n3-PART SERIES ON BRANDING & STRATEGIC BRAND MARKETING\n\nPRESENTED BY ANDOAK
X-ALT-DESC;FMTTYPE=text/html:2024 BUSINESS SEMINAR SERIES<br />\nPART 2 - BRAND MARKETING MASTER CLASS<br />\nDRIVE SALES AND LOYALTY WITH EFFECTIVE STORYTELLING!<br />\n<a href="https://chambermaster.blob.core.windows.net/userfiles/UserFiles/chambers/1648/File/Masterclass.m4v">BOOK YOUR TICKETS NOW!</a><br />\n<br />\n3-PART SERIES ON BRANDING &amp\; STRATEGIC BRAND MARKETING<br />\nPRESENTED BY ANDOAK&nbsp\;
LOCATION:GENECOV ROOM\, CHAMBER OF COMMERCE BUILDING 315 N. Broadway Downtown Tyler
UID:e.1648.15782
SEQUENCE:3
DTSTAMP:20260420T130858Z
URL:http://tylerarea.sampleorg.com/events/details/2024-business-series-part-2-brand-marketing-master-class-15782
END:VEVENT

END:VCALENDAR
