BEGIN:VCALENDAR
VERSION:2.0
PRODID:-//ChamberMaster//Event Calendar 2.0//EN
METHOD:PUBLISH
X-PUBLISHED-TTL:P3D
REFRESH-INTERVAL:P3D
CALSCALE:GREGORIAN
BEGIN:VEVENT
DTSTART:20240806T163000Z
DTEND:20240806T180000Z
X-MICROSOFT-CDO-ALLDAYEVENT:FALSE
SUMMARY:2024 18TH ANNUAL EAST TEXAS KICK-OFF LUNCHEON
DESCRIPTION:18TH ANNUAL EAST TEXAS KICK-OFF LUNCHEON\n\nANNOUNCEMENT OF THE EARL CAMPBELL TYLER ROSE AWARD WATCH LIST\n\n\nEMCEE:  Michael Coleman\, KLTV Sports Director\n\n\n\nGUEST SPEAKER:  Greg Tepper\, Managing Editor of Dave Campbell's Texas Football magazine: One-Air Analyst for Bally Sports\n\n \n\nSPECIAL GUESTS:  East Texas Area Scholar Athletes\, Head Football Coaches\, and School Superintendents.
X-ALT-DESC;FMTTYPE=text/html:<u><strong>18TH ANNUAL EAST TEXAS KICK-OFF LUNCHEON<br />\nANNOUNCEMENT OF THE EARL CAMPBELL TYLER ROSE AWARD WATCH LIST</strong></u>\n<div><br />\nEMCEE:&nbsp\; Michael Coleman\, KLTV Sports Director<br />\n<br />\nGUEST SPEAKER:&nbsp\; Greg Tepper\, Managing Editor of Dave Campbell&#39\;s Texas Football magazine: One-Air Analyst for Bally Sports<br />\n&nbsp\;<br />\nSPECIAL GUESTS:&nbsp\; East Texas Area Scholar Athletes\, Head Football Coaches\, and School Superintendents.&nbsp\;&nbsp\;</div>\n
LOCATION:W. T. Brookshire Conference Center 2000 W. Front Street Tyler\, TX 75702
UID:e.1648.15416
SEQUENCE:3
DTSTAMP:20260420T120438Z
URL:http://tylerarea.sampleorg.com/events/details/2024-18th-annual-east-texas-kick-off-luncheon-15416
END:VEVENT

END:VCALENDAR
