BEGIN:VCALENDAR
VERSION:2.0
PRODID:-//ChamberMaster//Event Calendar 2.0//EN
METHOD:PUBLISH
X-PUBLISHED-TTL:P3D
REFRESH-INTERVAL:P3D
CALSCALE:GREGORIAN
BEGIN:VEVENT
DTSTART:20240801T213000Z
DTEND:20240802T003000Z
X-MICROSOFT-CDO-ALLDAYEVENT:FALSE
SUMMARY:2024 11th Annual #School is Cool
DESCRIPTION:11th ANNUAL #SCHOOL IS COOL\n\nFor Parents and Students!  (prekindergarten - 12th grade)\n\nBackpack distribution is on a first-come\, first-served basis.\n\nStudent must be present to receive a free backpack.
X-ALT-DESC;FMTTYPE=text/html:11th ANNUAL #SCHOOL IS COOL<br />\nFor Parents and Students!&nbsp\; (prekindergarten - 12th grade)<br />\nBackpack distribution is on a first-come\, first-served basis.<br />\nStudent must be present to receive a free backpack.
LOCATION:W. T. BROOKSHIRE CONFERENCE CENTER & ROSE GARDEN CENTER 2000 W. Front Street Tyler\, TX
UID:e.1648.15770
SEQUENCE:3
DTSTAMP:20260420T115829Z
URL:http://tylerarea.sampleorg.com/events/details/2024-11th-annual-school-is-cool-15770
END:VEVENT

END:VCALENDAR
