BEGIN:VCALENDAR
VERSION:2.0
PRODID:-//ChamberMaster//Event Calendar 2.0//EN
METHOD:PUBLISH
X-PUBLISHED-TTL:P3D
REFRESH-INTERVAL:P3D
CALSCALE:GREGORIAN
BEGIN:VEVENT
DTSTART:20250807T213000Z
DTEND:20250808T000000Z
X-MICROSOFT-CDO-ALLDAYEVENT:FALSE
SUMMARY:12th Annual School is Cool
DESCRIPTION:The 12th Annual #SchoolisCool event helps children and parents prepare for the new school year. The 2\,000 FREE backpacks filled with school supplies are distributed to students on a first come\, first served basis. The child must be present in order to receive a backpack.
X-ALT-DESC;FMTTYPE=text/html:The 12th Annual #SchoolisCool event helps children and parents prepare for the new school year. The 2\,000 FREE backpacks filled with school supplies are distributed to students on a first come\, first served basis. The child must be present in order to receive a backpack.
LOCATION:Rose Garden Center and the W.T. Brookshire Conference Center\, located at 2000 W Front St.
UID:e.1648.16162
SEQUENCE:3
DTSTAMP:20260419T174358Z
URL:http://tylerarea.sampleorg.com/events/details/12th-annual-school-is-cool-16162
END:VEVENT

END:VCALENDAR
