BEGIN:VCALENDAR
VERSION:2.0
PRODID:-//ChamberMaster//Event Calendar 2.0//EN
METHOD:PUBLISH
X-PUBLISHED-TTL:P3D
REFRESH-INTERVAL:P3D
CALSCALE:GREGORIAN
BEGIN:VEVENT
DTSTART:20250412T200000Z
DTEND:20250412T220000Z
X-MICROSOFT-CDO-ALLDAYEVENT:FALSE
SUMMARY:12 Fires Wine Tasting
DESCRIPTION:The Tyler Aggie Moms Club is hosting a Wine Tasting showcasing 12 Fires Vineyard of Johnson City\, TX. Wine tasting and hors d'voeuvres are complimentary to all guests. All purchases of Bottled wine and silent auction items will benefit the Tyler Aggie Mom Scholarship fund. Each year the organization provides multiple scholarships to current Texas Aggies.
X-ALT-DESC;FMTTYPE=text/html:The Tyler Aggie Moms Club is hosting a Wine Tasting showcasing 12 Fires Vineyard of Johnson City\, TX. Wine tasting and hors d&#39\;voeuvres are complimentary to all guests. All purchases of Bottled wine and silent auction items will benefit the Tyler Aggie Mom Scholarship fund. Each year the organization provides multiple scholarships to current Texas Aggies.
LOCATION:Oak Crossing Event Center 101 Glenda Street Whitehouse\, TX 75791
UID:e.1648.16001
SEQUENCE:3
DTSTAMP:20260419T234706Z
URL:http://tylerarea.sampleorg.com/events/details/12-fires-wine-tasting-16001
END:VEVENT

END:VCALENDAR
