BEGIN:VCALENDAR
VERSION:2.0
PRODID:-//ChamberMaster//Event Calendar 2.0//EN
METHOD:PUBLISH
X-PUBLISHED-TTL:P3D
REFRESH-INTERVAL:P3D
CALSCALE:GREGORIAN
BEGIN:VEVENT
DTSTART:20240926T150000Z
DTEND:20240928T210000Z
X-MICROSOFT-CDO-ALLDAYEVENT:FALSE
SUMMARY:1000+ Family Sale - CCC Sale
DESCRIPTION:Over 1\,000 East Texas families selling their gently used kids clothes\, shoes\, toys\, books\, games\, bikes\, baby equipment\, furniture\, sporting goods .. If your kids need or want it   chances are you will find it at the CCC Sale.  This twice a year event features 3 days of shopping the very best bargains in East Texas. Everything your kids need for the upcoming season at unbelievable prices. Once you participate in the CCC Sale\, you will never want to miss it again. cccsale.com
X-ALT-DESC;FMTTYPE=text/html:Over 1\,000 East Texas families selling their gently used kids clothes\, shoes\, toys\, books\, games\, bikes\, baby equipment\, furniture\, sporting goods&hellip\;.. If your kids need or want it &ndash\; chances are you will find it at the CCC Sale.&nbsp\; This twice a year event features 3 days of shopping the very best bargains in East Texas. Everything your kids need for the upcoming season at unbelievable prices. Once you participate in the CCC Sale\, you will never want to miss it again. cccsale.com
LOCATION:The Oil Palace 10408 US Hwy 64 E Tyler Texas
UID:e.1648.15815
SEQUENCE:3
DTSTAMP:20260420T102803Z
URL:http://tylerarea.sampleorg.com/events/details/1000-family-sale-ccc-sale-15815
END:VEVENT

END:VCALENDAR
